BEGIN:VCALENDAR
VERSION:2.0
PRODID:icalendar-ruby
CALSCALE:GREGORIAN
METHOD:PUBLISH
BEGIN:VEVENT
DTSTAMP:20260422T104648Z
UID:150-1654408@centralsaanichunited.ca
DTSTART:20260919T190000Z
DTEND:20260919T194500Z
CLASS:PUBLIC
CREATED:20260422T033912
DESCRIPTION:Do you like meeting and chatting with people? \nCome and enjoy
  a free lunch and meet some neighbours.\nHeld every Saturday in Shadywood 
 Hall.  All Welcome!\nFor more information or to inquire about volunteerin
 g email Sandi Parker at  parker.sandi@gmail.com. \n \nFor currrent volu
 nteers\, click here to sign up.  
LAST-MODIFIED:20260422T033912
LOCATION:Central Saanich United Church
SUMMARY:Saturday Lunch
URL;VALUE=URI:https://www.centralsaanichunited.ca/events/saturday-lunch/202
 6-09-19
ATTACH;FILENAME=Screenshot 2026-01-02 145103.png;FMTTYPE=image/png:https://
 dq5pwpg1q8ru0.cloudfront.net/2026/01/02/22/57/49/b088c9c6-1732-496f-b6ee-c
 9c0db1e0029/Screenshot%202026-01-02%20145103.png
ATTACH;FILENAME=IMG_3172.jpg;FMTTYPE=image/jpeg:https://dq5pwpg1q8ru0.cloud
 front.net/2026/02/17/20/52/54/5107e34c-418e-40d3-961a-f2064345ceae/IMG_317
 2.jpg
ATTACH;FILENAME=powerpoint slides (2).png;FMTTYPE=image/png:https://dq5pwpg
 1q8ru0.cloudfront.net/2026/02/17/20/52/54/7bf797ae-da6b-45da-859a-be7b5e3b
 42d7/powerpoint%20slides%20(2).png
END:VEVENT
END:VCALENDAR
